BEGIN:VCALENDAR
VERSION:2.0
PRODID:-//eventon.com NONSGML v1.0//EN
CALSCALE:GREGORIAN
METHOD:PUBLISH
BEGIN:VEVENT
UID:69eb423ea05ef
DTSTAMP:20260424T101318Z
DTSTART:20221129T090000Z
DTEND:20221129T103000Z
LOCATION:
SUMMARY:Webinar 'Claves de la nueva Ley Concursal para el empresario'
DESCRIPTION:La Confederación Granadina de Empresarios (CGE) organiza el pr
 óximo martes 29 de noviembre a las 10:00 horas un seminario sobre las 'Cla
 ves de la nueva Ley Concursal para el empresario'\,  que abordará la refor
 ma de la Ley Concursal que entró en vigor el pasado 26 de septiembre. El w
 ebinar\,  impartido[..]\nhttps://granadametropoliempresas.es/events/webinar
 -claves-la-nueva-ley-concursal-empresario/
URL:https://granadametropoliempresas.es/events/webinar-claves-la-nueva-ley-concursal-empresario/
END:VEVENT
END:VCALENDAR