BEGIN:VCALENDAR
VERSION:2.0
PRODID:-//eventon.com NONSGML v1.0//EN
CALSCALE:GREGORIAN
METHOD:PUBLISH
BEGIN:VEVENT
UID:69e9f3f3d18f0
DTSTAMP:20260423T102659Z
DTSTART:20260423T080000Z
DTEND:20260429T170000Z
LOCATION:
SUMMARY:8ª AiBirras Granada: Cara y…muchas cruces de la IA!
DESCRIPTION:Desde UGR Emprendedora queremos enseñaros este evento\,  aloja
 do en Breaker y del cual somos colaboradores.&nbsp; AiBirras Únete a la oc
 tava edición de AiBirras Granada\,  un evento que explora las implicacione
 s más profundas de la inteligencia artificial en nuestras vidas. Descubre 
 cómo la IA está cambiando nuestras relaciones sociales\,  el marketing[..
 ]\nhttps://granadametropoliempresas.es/events/8a-aibirras-granada-cara-ymuc
 has-cruces-de-la-ia/
URL:https://granadametropoliempresas.es/events/8a-aibirras-granada-cara-ymuchas-cruces-de-la-ia/
END:VEVENT
END:VCALENDAR